BEGIN:VCALENDAR
VERSION:2.0
PRODID:-//hacksw/handcal//NONSGML v1.0//EN
BEGIN:VEVENT
SUMMARY:Regionaux de cross
UID:939aac64-908f-4f56-bdcf-b69466ab8c16
DTSTART:20260131T230000Z
DTEND:20260201T230000Z
LOCATION:Localisation Stade Manuela Montebrun 53000 Laval
CATEGORIES:Sportif
STATUS:
URL;VALUE=URI:https://www.athletisme-lapommeraye.com/evenements/2026/02/01/regionaux-de-cross-2396873
END:VEVENT
END:VCALENDAR
